BEGIN:VCALENDAR
VERSION:2.0
PRODID:-//Violet in Japan - ECPv6.15.18//NONSGML v1.0//EN
CALSCALE:GREGORIAN
METHOD:PUBLISH
X-WR-CALNAME:Violet in Japan
X-ORIGINAL-URL:https://violetinjapan.com
X-WR-CALDESC:Eventi per Violet in Japan
REFRESH-INTERVAL;VALUE=DURATION:PT1H
X-Robots-Tag:noindex
X-PUBLISHED-TTL:PT1H
BEGIN:VTIMEZONE
TZID:UTC
BEGIN:STANDARD
TZOFFSETFROM:+0000
TZOFFSETTO:+0000
TZNAME:UTC
DTSTART:20210101T000000
END:STANDARD
END:VTIMEZONE
BEGIN:VEVENT
DTSTART;TZID=UTC:20220410T150000
DTEND;TZID=UTC:20220410T180000
DTSTAMP:20260419T150635
CREATED:20220330T073447Z
LAST-MODIFIED:20220330T073631Z
UID:3527-1649602800-1649613600@violetinjapan.com
SUMMARY:Workshop quaderno con carta giapponese
DESCRIPTION:L’Associazione Iroha ospiterà un workshop dedicato alla pregiata carta giapponese yuzen\, prodotto tipico della manifattura di Kyoto. Si tratta di un tipo di carta stampata a mano con la tecnica della serigrafia giapponese e esistono migliaia e migliaia di pattern diversi…c’è da impazzire a scegliere! 🙂 \nDurante il workshop (della durata di tre ore) la maestra Meiko Yokoyama insegnerà come creare un quaderno rivestito di carta giapponese che\, a fine laboratorio\, si potrà portare a casa. \nCi saranno anche biscottini e te’ verde per fare merenda tutti insieme 🙂 \n  \nQuando? Domenica 10 Aprile alle ore 15.00 \nDove? Via delle Terme\, 9  Firenze \nIl costo del corso è di 30€ comprendente i materiali utilizzati – \nper i non soci c’è da aggiungere la quota associativa ad Iroha per 10€/4 mesi o 25€/12 mesi \n  \nPer info e prenotazioni scrivere direttamente all’Associazione Iroha anche attraverso i canali social >  https://www.facebook.com/irohafirenze/?ref=page_internal \n  \n 
URL:https://violetinjapan.com/event/workshop-quaderno-con-carta-giapponese/
LOCATION:Associazione Iroha\, Via delle Terme\, 9\, Firenze\, 50100\, Italia
CATEGORIES:Workshop
ATTACH;FMTTYPE=image/jpeg:https://violetinjapan.com/wp-content/uploads/2022/03/quaderni.jpg
END:VEVENT
END:VCALENDAR